BEGIN:VCALENDAR
VERSION:2.0
PRODID:-//Christ Church, Episcopal, Tyler, Texas - ECPv6.6.4.2//NONSGML v1.0//EN
CALSCALE:GREGORIAN
METHOD:PUBLISH
X-ORIGINAL-URL:https://www.christchurchtyler.org
X-WR-CALDESC:Events for Christ Church, Episcopal, Tyler, Texas
REFRESH-INTERVAL;VALUE=DURATION:PT1H
X-Robots-Tag:noindex
X-PUBLISHED-TTL:PT1H
BEGIN:VTIMEZONE
TZID:America/Chicago
BEGIN:DAYLIGHT
TZOFFSETFROM:-0600
TZOFFSETTO:-0500
TZNAME:CDT
DTSTART:20260308T080000
END:DAYLIGHT
BEGIN:STANDARD
TZOFFSETFROM:-0500
TZOFFSETTO:-0600
TZNAME:CST
DTSTART:20261101T070000
END:STANDARD
END:VTIMEZONE
BEGIN:VEVENT
DTSTART;TZID=America/Chicago:20260426T090000
DTEND;TZID=America/Chicago:20260426T100000
DTSTAMP:20260420T044933
CREATED:20260225T160622Z
LAST-MODIFIED:20260419T174834Z
UID:14828-1777194000-1777197600@www.christchurchtyler.org
SUMMARY:Holy Eucharist Downtown
DESCRIPTION:
URL:https://www.christchurchtyler.org/event/holy-eucharist-downtown-156/
LOCATION:TX
END:VEVENT
BEGIN:VEVENT
DTSTART;TZID=America/Chicago:20260426T100000
DTEND;TZID=America/Chicago:20260426T104500
DTSTAMP:20260420T044933
CREATED:20260225T160621Z
LAST-MODIFIED:20260419T174834Z
UID:14826-1777197600-1777200300@www.christchurchtyler.org
SUMMARY:Christian Formation
DESCRIPTION:
URL:https://www.christchurchtyler.org/event/christian-formation-239/
LOCATION:Christ Church South\, 15747 Old Jacksonville Hwy\, Tyler\, TX\, United States
END:VEVENT
BEGIN:VEVENT
DTSTART;TZID=America/Chicago:20260426T100000
DTEND;TZID=America/Chicago:20260426T110000
DTSTAMP:20260420T044933
CREATED:20260225T160621Z
LAST-MODIFIED:20260419T174835Z
UID:14825-1777197600-1777201200@www.christchurchtyler.org
SUMMARY:Adult & Youth Confirmation Class
DESCRIPTION:
URL:https://www.christchurchtyler.org/event/adult-youth-confirmation-class-2/
LOCATION:TX
END:VEVENT
BEGIN:VEVENT
DTSTART;TZID=America/Chicago:20260426T100000
DTEND;TZID=America/Chicago:20260426T110000
DTSTAMP:20260420T044933
CREATED:20260225T160622Z
LAST-MODIFIED:20260419T174834Z
UID:14827-1777197600-1777201200@www.christchurchtyler.org
SUMMARY:Christian Formation Downtown
DESCRIPTION:
URL:https://www.christchurchtyler.org/event/christian-formation-downtown-165/
LOCATION:TX
END:VEVENT
BEGIN:VEVENT
DTSTART;TZID=America/Chicago:20260426T110000
DTEND;TZID=America/Chicago:20260426T120000
DTSTAMP:20260420T044933
CREATED:20260225T160622Z
LAST-MODIFIED:20260419T174834Z
UID:14831-1777201200-1777204800@www.christchurchtyler.org
SUMMARY:Holy Eucharist Downtown 11am-12pm
DESCRIPTION:
URL:https://www.christchurchtyler.org/event/holy-eucharist-downtown-11am-12pm-16/
LOCATION:Christ Church Downtown
END:VEVENT
BEGIN:VEVENT
DTSTART;TZID=America/Chicago:20260426T110500
DTEND;TZID=America/Chicago:20260426T120500
DTSTAMP:20260420T044933
CREATED:20260225T160622Z
LAST-MODIFIED:20260419T174847Z
UID:14829-1777201500-1777205100@www.christchurchtyler.org
SUMMARY:Holy Eucharist Rite II
DESCRIPTION:For access to service live streamed
URL:https://www.christchurchtyler.org/event/holy-eucharist-rite-ii-251/
LOCATION:Christ Church South\, 15747 Old Jacksonville Hwy\, Tyler\, TX\, United States
END:VEVENT
BEGIN:VEVENT
DTSTART;TZID=America/Chicago:20260426T120000
DTEND;TZID=America/Chicago:20260426T130000
DTSTAMP:20260420T044933
CREATED:20260225T160622Z
LAST-MODIFIED:20260419T174847Z
UID:14830-1777204800-1777208400@www.christchurchtyler.org
SUMMARY:Picnic Under the Pavilion
DESCRIPTION:
URL:https://www.christchurchtyler.org/event/picnic-under-the-pavilion-12/
LOCATION:Christ Church South\, 15747 Old Jacksonville Hwy\, Tyler\, TX\, United States
END:VEVENT
BEGIN:VEVENT
DTSTART;TZID=America/Chicago:20260426T123000
DTEND;TZID=America/Chicago:20260426T133000
DTSTAMP:20260420T044933
CREATED:20260305T172054Z
LAST-MODIFIED:20260419T174847Z
UID:14872-1777206600-1777210200@www.christchurchtyler.org
SUMMARY:Christ Church Connection Lunch CCD
DESCRIPTION:
URL:https://www.christchurchtyler.org/event/christ-church-connection-lunch-ccd/
LOCATION:Christ Church Downtown
END:VEVENT
BEGIN:VEVENT
DTSTART;TZID=America/Chicago:20260426T163000
DTEND;TZID=America/Chicago:20260426T173000
DTSTAMP:20260420T044933
CREATED:20260225T160634Z
LAST-MODIFIED:20260419T174848Z
UID:14832-1777221000-1777224600@www.christchurchtyler.org
SUMMARY:Sunday Gathering
DESCRIPTION:
URL:https://www.christchurchtyler.org/event/sunday-gathering-229/
LOCATION:Undercroft
END:VEVENT
BEGIN:VEVENT
DTSTART;TZID=America/Chicago:20260428T080000
DTEND;TZID=America/Chicago:20260428T090000
DTSTAMP:20260420T044933
CREATED:20260227T163637Z
LAST-MODIFIED:20260419T174848Z
UID:14835-1777363200-1777366800@www.christchurchtyler.org
SUMMARY:Men's Bible Study with the Rector
DESCRIPTION:
URL:https://www.christchurchtyler.org/event/mens-bible-study-with-the-rector-30/
LOCATION:Christ Church Downtown
END:VEVENT
BEGIN:VEVENT
DTSTART;TZID=America/Chicago:20260428T173000
DTEND;TZID=America/Chicago:20260428T183000
DTSTAMP:20260420T044933
CREATED:20260227T163637Z
LAST-MODIFIED:20260419T174848Z
UID:14836-1777397400-1777401000@www.christchurchtyler.org
SUMMARY:EFM
DESCRIPTION:
URL:https://www.christchurchtyler.org/event/efm-104/
LOCATION:Christ Church South\, 15747 Old Jacksonville Hwy\, Tyler\, TX\, United States
END:VEVENT
BEGIN:VEVENT
DTSTART;TZID=America/Chicago:20260429T073000
DTEND;TZID=America/Chicago:20260429T083000
DTSTAMP:20260420T044933
CREATED:20260228T165127Z
LAST-MODIFIED:20260419T174848Z
UID:14841-1777447800-1777451400@www.christchurchtyler.org
SUMMARY:Men's Bible Study
DESCRIPTION:
URL:https://www.christchurchtyler.org/event/mens-bible-study-260/
LOCATION:The Undercroft
END:VEVENT
BEGIN:VEVENT
DTSTART;TZID=America/Chicago:20260429T173000
DTEND;TZID=America/Chicago:20260429T183000
DTSTAMP:20260420T044933
CREATED:20260228T165127Z
LAST-MODIFIED:20260419T174849Z
UID:14843-1777483800-1777487400@www.christchurchtyler.org
SUMMARY:Children's Choir Practice
DESCRIPTION:
URL:https://www.christchurchtyler.org/event/childrens-choir-practice-46/
LOCATION:Christ Episcopal Church\, 118 S Bois D Arc Ave\, Tyler\, TX\, United States
END:VEVENT
BEGIN:VEVENT
DTSTART;TZID=America/Chicago:20260429T180000
DTEND;TZID=America/Chicago:20260429T193000
DTSTAMP:20260420T044933
CREATED:20260228T165127Z
LAST-MODIFIED:20260419T174849Z
UID:14844-1777485600-1777491000@www.christchurchtyler.org
SUMMARY:EYC
DESCRIPTION:
URL:https://www.christchurchtyler.org/event/eyc-123/
LOCATION:Christ Church Downtown-4th Floor
END:VEVENT
BEGIN:VEVENT
DTSTART;TZID=America/Chicago:20260429T183000
DTEND;TZID=America/Chicago:20260429T200000
DTSTAMP:20260420T044933
CREATED:20260228T165127Z
LAST-MODIFIED:20260419T174849Z
UID:14842-1777487400-1777492800@www.christchurchtyler.org
SUMMARY:Chancel Choir Practice
DESCRIPTION:
URL:https://www.christchurchtyler.org/event/chancel-choir-practice-75/
LOCATION:Christ Church Downtown Choir Room
END:VEVENT
BEGIN:VEVENT
DTSTART;TZID=America/Chicago:20260430T103000
DTEND;TZID=America/Chicago:20260430T113000
DTSTAMP:20260420T044933
CREATED:20260301T165104Z
LAST-MODIFIED:20260419T174900Z
UID:14846-1777545000-1777548600@www.christchurchtyler.org
SUMMARY:Women's Bible Study
DESCRIPTION:
URL:https://www.christchurchtyler.org/event/womens-bible-study-62/
LOCATION:Christ Church Downtown Epiphany Room
END:VEVENT
BEGIN:VEVENT
DTSTART;TZID=America/Chicago:20260430T180000
DTEND;TZID=America/Chicago:20260430T190000
DTSTAMP:20260420T044933
CREATED:20260301T165104Z
LAST-MODIFIED:20260419T174901Z
UID:14847-1777572000-1777575600@www.christchurchtyler.org
SUMMARY:Loaves & Fishes
DESCRIPTION:
URL:https://www.christchurchtyler.org/event/loaves-fishes-219/
LOCATION:CCD
END:VEVENT
BEGIN:VEVENT
DTSTART;TZID=America/Chicago:20260501T090000
DTEND;TZID=America/Chicago:20260501T130000
DTSTAMP:20260420T044934
CREATED:20260302T165108Z
LAST-MODIFIED:20260419T174901Z
UID:14850-1777626000-1777640400@www.christchurchtyler.org
SUMMARY:Brotherhood of St. Andrew Golf Tournament
DESCRIPTION:
URL:https://www.christchurchtyler.org/event/brotherhood-of-st-andrew-golf-tournament-3/
LOCATION:Pine Springs Golf Club\, 5630 Pine Springs Rd\, Tyler\, TX\, United States
END:VEVENT
BEGIN:VEVENT
DTSTART;VALUE=DATE:20260503
DTEND;VALUE=DATE:20260504
DTSTAMP:20260420T044934
CREATED:20260304T170605Z
LAST-MODIFIED:20260419T174902Z
UID:14861-1777766400-1777852799@www.christchurchtyler.org
SUMMARY:Confirmation Sunday
DESCRIPTION:
URL:https://www.christchurchtyler.org/event/confirmation-sunday-6/
LOCATION:TX
END:VEVENT
BEGIN:VEVENT
DTSTART;TZID=America/Chicago:20260503T073000
DTEND;TZID=America/Chicago:20260503T083000
DTSTAMP:20260420T044934
CREATED:20260304T170553Z
LAST-MODIFIED:20260419T174901Z
UID:14853-1777793400-1777797000@www.christchurchtyler.org
SUMMARY:Holy Eucharist Rite I
DESCRIPTION:
URL:https://www.christchurchtyler.org/event/holy-eucharist-rite-i-247/
LOCATION:Christ Episcopal Church\, 118 S Bois D Arc Ave\, Tyler\, TX\, United States
END:VEVENT
BEGIN:VEVENT
DTSTART;TZID=America/Chicago:20260503T090000
DTEND;TZID=America/Chicago:20260503T100000
DTSTAMP:20260420T044934
CREATED:20260304T170604Z
LAST-MODIFIED:20260419T174902Z
UID:14856-1777798800-1777802400@www.christchurchtyler.org
SUMMARY:Christian Formation Downtown
DESCRIPTION:
URL:https://www.christchurchtyler.org/event/christian-formation-downtown-166/
LOCATION:TX
END:VEVENT
BEGIN:VEVENT
DTSTART;TZID=America/Chicago:20260503T100000
DTEND;TZID=America/Chicago:20260503T104500
DTSTAMP:20260420T044934
CREATED:20260304T170604Z
LAST-MODIFIED:20260419T174901Z
UID:14858-1777802400-1777805100@www.christchurchtyler.org
SUMMARY:Christian Formation
DESCRIPTION:
URL:https://www.christchurchtyler.org/event/christian-formation-240/
LOCATION:Christ Church South\, 15747 Old Jacksonville Hwy\, Tyler\, TX\, United States
END:VEVENT
BEGIN:VEVENT
DTSTART;TZID=America/Chicago:20260503T100000
DTEND;TZID=America/Chicago:20260503T110000
DTSTAMP:20260420T044934
CREATED:20260304T170604Z
LAST-MODIFIED:20260419T174903Z
UID:14855-1777802400-1777806000@www.christchurchtyler.org
SUMMARY:Confirmation Sunday-Bishop Fisher
DESCRIPTION:
URL:https://www.christchurchtyler.org/event/confirmation-sunday-bishop-fisher/
LOCATION:Christ Episcopal Church\, 118 S Bois D Arc Ave\, Tyler\, TX\, United States
END:VEVENT
BEGIN:VEVENT
DTSTART;TZID=America/Chicago:20260503T100000
DTEND;TZID=America/Chicago:20260503T110000
DTSTAMP:20260420T044934
CREATED:20260304T170604Z
LAST-MODIFIED:20260419T174902Z
UID:14857-1777802400-1777806000@www.christchurchtyler.org
SUMMARY:Holy Eucharist Downtown 11am-12pm
DESCRIPTION:
URL:https://www.christchurchtyler.org/event/holy-eucharist-downtown-11am-12pm-17/
LOCATION:Christ Church Downtown
END:VEVENT
BEGIN:VEVENT
DTSTART;TZID=America/Chicago:20260503T110000
DTEND;TZID=America/Chicago:20260503T120000
DTSTAMP:20260420T044934
CREATED:20260304T170604Z
LAST-MODIFIED:20260419T174902Z
UID:14854-1777806000-1777809600@www.christchurchtyler.org
SUMMARY:Confirmation Reception Downtown-Parish Hall
DESCRIPTION:
URL:https://www.christchurchtyler.org/event/confirmation-reception-downtown-parish-hall/
LOCATION:TX
END:VEVENT
BEGIN:VEVENT
DTSTART;TZID=America/Chicago:20260503T110500
DTEND;TZID=America/Chicago:20260503T120500
DTSTAMP:20260420T044934
CREATED:20260304T170605Z
LAST-MODIFIED:20260419T174915Z
UID:14859-1777806300-1777809900@www.christchurchtyler.org
SUMMARY:Holy Eucharist Rite II
DESCRIPTION:For access to service live streamed
URL:https://www.christchurchtyler.org/event/holy-eucharist-rite-ii-252/
LOCATION:Christ Church South\, 15747 Old Jacksonville Hwy\, Tyler\, TX\, United States
END:VEVENT
BEGIN:VEVENT
DTSTART;TZID=America/Chicago:20260503T163000
DTEND;TZID=America/Chicago:20260503T173000
DTSTAMP:20260420T044934
CREATED:20260304T170605Z
LAST-MODIFIED:20260419T174915Z
UID:14860-1777825800-1777829400@www.christchurchtyler.org
SUMMARY:Sunday Gathering
DESCRIPTION:
URL:https://www.christchurchtyler.org/event/sunday-gathering-230/
LOCATION:Undercroft
END:VEVENT
BEGIN:VEVENT
DTSTART;TZID=America/Chicago:20260505T080000
DTEND;TZID=America/Chicago:20260505T090000
DTSTAMP:20260420T044934
CREATED:20260306T172135Z
LAST-MODIFIED:20260419T174916Z
UID:14875-1777968000-1777971600@www.christchurchtyler.org
SUMMARY:Men's Bible Study with the Rector
DESCRIPTION:
URL:https://www.christchurchtyler.org/event/mens-bible-study-with-the-rector-31/
LOCATION:Christ Church Downtown
END:VEVENT
BEGIN:VEVENT
DTSTART;TZID=America/Chicago:20260505T173000
DTEND;TZID=America/Chicago:20260505T183000
DTSTAMP:20260420T044934
CREATED:20260306T172135Z
LAST-MODIFIED:20260419T174916Z
UID:14876-1778002200-1778005800@www.christchurchtyler.org
SUMMARY:EFM
DESCRIPTION:
URL:https://www.christchurchtyler.org/event/efm-105/
LOCATION:Christ Church South\, 15747 Old Jacksonville Hwy\, Tyler\, TX\, United States
END:VEVENT
BEGIN:VEVENT
DTSTART;TZID=America/Chicago:20260506T073000
DTEND;TZID=America/Chicago:20260506T083000
DTSTAMP:20260420T044934
CREATED:20260307T173619Z
LAST-MODIFIED:20260419T174916Z
UID:14881-1778052600-1778056200@www.christchurchtyler.org
SUMMARY:Men's Bible Study
DESCRIPTION:
URL:https://www.christchurchtyler.org/event/mens-bible-study-261/
LOCATION:The Undercroft
END:VEVENT
END:VCALENDAR