BEGIN:VCALENDAR
VERSION:2.0
PRODID:-//Christ Church, Episcopal, Tyler, Texas - ECPv6.6.4.2//NONSGML v1.0//EN
CALSCALE:GREGORIAN
METHOD:PUBLISH
X-WR-CALNAME:Christ Church, Episcopal, Tyler, Texas
X-ORIGINAL-URL:https://www.christchurchtyler.org
X-WR-CALDESC:Events for Christ Church, Episcopal, Tyler, Texas
REFRESH-INTERVAL;VALUE=DURATION:PT1H
X-Robots-Tag:noindex
X-PUBLISHED-TTL:PT1H
BEGIN:VTIMEZONE
TZID:America/Chicago
BEGIN:DAYLIGHT
TZOFFSETFROM:-0600
TZOFFSETTO:-0500
TZNAME:CDT
DTSTART:20260308T080000
END:DAYLIGHT
BEGIN:STANDARD
TZOFFSETFROM:-0500
TZOFFSETTO:-0600
TZNAME:CST
DTSTART:20261101T070000
END:STANDARD
END:VTIMEZONE
BEGIN:VEVENT
DTSTART;VALUE=DATE:20260419
DTEND;VALUE=DATE:20260420
DTSTAMP:20260419T104627
CREATED:20260218T150606Z
LAST-MODIFIED:20260418T173229Z
UID:14785-1776556800-1776643199@www.christchurchtyler.org
SUMMARY:Alms Sunday
DESCRIPTION:
URL:https://www.christchurchtyler.org/event/alms-sunday-52/
LOCATION:All services\, both campuses
END:VEVENT
BEGIN:VEVENT
DTSTART;TZID=America/Chicago:20260419T073000
DTEND;TZID=America/Chicago:20260419T083000
DTSTAMP:20260419T104627
CREATED:20260218T150622Z
LAST-MODIFIED:20260418T173228Z
UID:14790-1776583800-1776587400@www.christchurchtyler.org
SUMMARY:Holy Eucharist Rite I
DESCRIPTION:
URL:https://www.christchurchtyler.org/event/holy-eucharist-rite-i-245/
LOCATION:Christ Episcopal Church\, 118 S Bois D Arc Ave\, Tyler\, TX\, United States
END:VEVENT
BEGIN:VEVENT
DTSTART;TZID=America/Chicago:20260419T090000
DTEND;TZID=America/Chicago:20260419T100000
DTSTAMP:20260419T104627
CREATED:20260218T150604Z
LAST-MODIFIED:20260418T173229Z
UID:14782-1776589200-1776592800@www.christchurchtyler.org
SUMMARY:Holy Eucharist Downtown
DESCRIPTION:
URL:https://www.christchurchtyler.org/event/holy-eucharist-downtown-155/
END:VEVENT
BEGIN:VEVENT
DTSTART;TZID=America/Chicago:20260419T100000
DTEND;TZID=America/Chicago:20260419T104500
DTSTAMP:20260419T104627
CREATED:20260218T150607Z
LAST-MODIFIED:20260418T173228Z
UID:14786-1776592800-1776595500@www.christchurchtyler.org
SUMMARY:Christian Formation
DESCRIPTION:
URL:https://www.christchurchtyler.org/event/christian-formation-238/
LOCATION:Christ Church South\, 15747 Old Jacksonville Hwy\, Tyler\, TX\, United States
END:VEVENT
BEGIN:VEVENT
DTSTART;TZID=America/Chicago:20260419T100000
DTEND;TZID=America/Chicago:20260419T110000
DTSTAMP:20260419T104627
CREATED:20260218T150605Z
LAST-MODIFIED:20260418T173229Z
UID:14783-1776592800-1776596400@www.christchurchtyler.org
SUMMARY:Christian Formation Downtown
DESCRIPTION:
URL:https://www.christchurchtyler.org/event/christian-formation-downtown-164/
END:VEVENT
BEGIN:VEVENT
DTSTART;TZID=America/Chicago:20260419T100000
DTEND;TZID=America/Chicago:20260419T110000
DTSTAMP:20260419T104627
CREATED:20260218T150608Z
LAST-MODIFIED:20260418T173229Z
UID:14787-1776592800-1776596400@www.christchurchtyler.org
SUMMARY:Adult & Youth Confirmation Class
DESCRIPTION:
URL:https://www.christchurchtyler.org/event/adult-youth-confirmation-class/
END:VEVENT
BEGIN:VEVENT
DTSTART;TZID=America/Chicago:20260419T110000
DTEND;TZID=America/Chicago:20260419T120000
DTSTAMP:20260419T104627
CREATED:20260218T150606Z
LAST-MODIFIED:20260418T173229Z
UID:14784-1776596400-1776600000@www.christchurchtyler.org
SUMMARY:Holy Eucharist Downtown 11am-12pm
DESCRIPTION:
URL:https://www.christchurchtyler.org/event/holy-eucharist-downtown-11am-12pm-15/
LOCATION:Christ Church Downtown
END:VEVENT
BEGIN:VEVENT
DTSTART;TZID=America/Chicago:20260419T110500
DTEND;TZID=America/Chicago:20260419T120500
DTSTAMP:20260419T104627
CREATED:20260218T150609Z
LAST-MODIFIED:20260418T173229Z
UID:14788-1776596700-1776600300@www.christchurchtyler.org
SUMMARY:Holy Eucharist Rite II
DESCRIPTION:For access to service live streamed
URL:https://www.christchurchtyler.org/event/holy-eucharist-rite-ii-250/
LOCATION:Christ Church South\, 15747 Old Jacksonville Hwy\, Tyler\, TX\, United States
END:VEVENT
BEGIN:VEVENT
DTSTART;TZID=America/Chicago:20260419T123000
DTEND;TZID=America/Chicago:20260419T133000
DTSTAMP:20260419T104627
CREATED:20260305T172031Z
LAST-MODIFIED:20260418T173229Z
UID:14871-1776601800-1776605400@www.christchurchtyler.org
SUMMARY:Christ Church Connection Lunch CCS
DESCRIPTION:
URL:https://www.christchurchtyler.org/event/christ-church-connection-lunch-ccs/
LOCATION:Christ Church South\, 15747 Old Jacksonville Hwy\, Tyler\, TX\, United States
END:VEVENT
BEGIN:VEVENT
DTSTART;TZID=America/Chicago:20260419T163000
DTEND;TZID=America/Chicago:20260419T173000
DTSTAMP:20260419T104627
CREATED:20260218T150622Z
LAST-MODIFIED:20260418T173243Z
UID:14789-1776616200-1776619800@www.christchurchtyler.org
SUMMARY:Sunday Gathering
DESCRIPTION:
URL:https://www.christchurchtyler.org/event/sunday-gathering-228/
LOCATION:Undercroft
END:VEVENT
END:VCALENDAR